Workbook

Sheet AUDIT SUMMARY
B2: Infection Prevention & Control Environmental Audit Tool 2026 for General Practice (Version 2 June 2026)
B3: (Adapted from Infection Prevention Society Tool for General Practitioner Settings - Quality Improvement Tool v2 2016)
B6: GP Practice: | C6: Heswall and Pensby Group practice | E6: Standards Audited: | F6: Current % score
B7: Address: | C7: Heswall Centre, 270 Telgragh road, wirral CH60 7SG | E7: General/Staff Knowledge | F7: ='General-Staff Knowledge'!C34 -> 90.47619
B8: Practice Manager: | C8: Jayne Hennessey | E8: General - Environment | F8: ='General Environment'!C21 -> 100
B9: Accompanied By: | E9: General - Toys/Books | F9: ='General Toys Books'!C32 -> 100
B10: Date of Audit: | C10: 46177 | E10: General - Domestic Room | F10: ='General Domestic Room'!C27 -> 75
B11: Audit Completed By: | C11: Laura Peers IPCN | E11: Treatment Room - Clinical | F11: ='Treatment Room Clinical Room'!C46 -> 84.848485
B12: Date Audit Report Completed: | C12: 46184 | E12: Personal Protective Equipment | F12: =PPE!C37 -> 50
E13: Transportation of Specimens | F13: ='Transportation of Specimens'!C17 -> 100
E14: Sharps Handling & Disposal | F14: ='Sharps Handling & Disposal'!C20 -> 100
E15: Vaccine Transportation & Storage | F15: ='Vaccine Transportation Storage'!C45 -> 100
E16: Dirty Utility/Sluice | F16: ='Dirty Utility Sluice'!C34 -> 84.210526
B17: Audit Scoring Key: | E17: Storeroom & Equipment Storage | F17: ='Storeroom & Equipment Storage'!C45 -> 100
B18: Good Compliance | C18: 95 - 100% | E18: Baby Changing Facilities | F18: ='Baby Changing Facilities'!C30 -> 87.5
B19: Action Required | C19: 80 - 94% | E19: Patient Toilets | F19: ='Patient Toilets'!C26 -> 100
B20: Urgent Action/ Improvement Required | C20: 79% and below | E20: Overall Score | F20: =SUM(F7:F19)/13 -> 90.156554

Sheet General-Staff Knowledge
A1: 1. General/Staff Knowledge
A3: Question Number | B3: Statement | C3: Yes/No/NA | D3: Comments | E3: Actions (To be completed by Practice Manager) | F3: Date of Completion (To be completed by Practice Manager)
A4: 1 | B4: Does this GP practice have a designated person responsible leading on IPC who completes audits and monitors regularly? e.g., GP setting manager? | C4: Yes | D4: Jayne Hennessy and Gemma
A5: 2 | B5: Is there clear information about when and how to contact the IPC service? including out of hours? | C5: Yes
A6: 3 | B6: Is there evidence of a process /agenda for reporting IPC risks/untoward incidence in practice significant event meetings? | C6: Yes | D6: clinical meetings occur monthly, as well as Governance meetings and nurse meetings.
A7: 4 | B7: Have practice audits been undertaken and improvements made? Are recent action plans with a proposed date in progress/completed? | C7: Yes | D7: Planned redecoration is scheduled. Hand hygeine audits are carried out with staff and annual IPC self audits are caried out.
A8: 5 | B8: Have staff in this GP setting been offered immunisation as per current national guidance? | C8: Yes | D8: All staff are asked to give a copy of their immunisation status on employment.
A9: 6 | B9: Are practice staff aware of and compliant with the policy of being absent from work when they are potentially infectious? | C9: Yes
A10: 7 | B10: Do staff know what to do if they or a colleague sustains an inoculation injury? | C10: Yes | D10: posters visible for management of innoculation injuries
A11: 8 | B11: Have all staff in this GP setting received IPC induction training and up to date with IPC mandatory training? | C11: Yes | D11: Blue stream is used for staff training. There is a matrix that is used for monitoring staff compliance.
A12: 9 | B12: Do staff (if appropriate to their job role) receive training in aseptic technique? | C12: Yes | D12: Discussed with Jayne that this training is difficult to access. Have discussed contacting a few services from WCHC or outside sourcing company to deliver the training. | E12: ACTION- Source Asceptic training for relevent staff.
A13: 10 | B13: Do staff know how to decontaminate a blood or bodily fluid spillage safely? | C13: Yes
A14: 11 | B14: Are all disinfectants including spill kits locked away in a COSHH approved cupboard? | C14: yes | D14: Evidence of cleaning materials but no chlorine based disinfectants seen during the visit. | E14: ACTION- cleaning schedules to be available for IPC lead to monitor cleaning standards
A15: 12 | B15: Do staff know the symbol used to indicate single use? | C15: Yes
A16: 13 | B16: Are single-use items used once and then discarded? | C16: Yes
A17: 14 | B17: Are staff adhering to bare below the elbow? | C17: No | D17: All clinical staff to required to be bare below the elbow.
A18: 15 | B18: Are hand hygiene competencies completed for clinical staff? | C18: Yes
A19: 16 | B19: Are staff aware of the items of equipment for which they are responsible for cleaning? | C19: Yes
A20: 17 | B20: Is all equipment included within the departments cleaning checklist? | C20: No | D20: Blood glucose monitors (BM) not included. | E20: ACTION- Ensure BM machines are included in cleaning checklist and all staff know person responsible for cleaning
A21: 18 | B21: Are outside waste containers or storage waste compound areas kept clean and tidy without evidence of vermin and or inappropriate items? | C21: Yes
A22: 19 | B22: Are patients provided with appropriate containers for specimens to be obtained at home? | C22: Yes
A23: 20 | B23: Is there a process in place to review specimen results to ensure that patients are receiving appropriate antibiotic treatment? | C23: Yes | D23: Requesting clinician reviews the results. The results are reviewed daily as routine.
A24: 21 | B24: Are staff aware when not to undertake dipstick urinalysis of urine for the diagnosis of UTIs ? | C24: Yes
B26: Yes | C26: =COUNTIF(C4:C24,"Yes") -> 19
B27: No | C27: =COUNTIF(C4:C24,"No") -> 2
B28: N/A | C28: =COUNTIF(C4:C24,"N/A") -> 0
B30: Yes & No | C30: =C26+C27 -> 21
B34: % Audit Score General/Staff Knowledge | C34: =C26/C30*100 -> 90.47619

Sheet General Environment
A1: 2. General Environment
A3: Question Number | B3: Statement | C3: Yes/No/NA | D3: Comments | E3: Actions (To be completed by Practice Manager) | F3: Date of Completion (To be completed by Practice Manager)
A4: 1 | B4: Is there access to alcohol-based hand rub near reception? | C4: Yes
A5: 2 | B5: Are all furnishings and fittings visibly clean? | C5: Yes
A6: 3 | B6: Are all furnishings and fittings in a good state of repair? | C6: Yes | D6: There is some damage to paintwork throughout the setting, discussed this at time of vsiit and there are plans in place for redecoration. Damage to wall in 1st floor domestic room.
A7: 4 | B7: Is the floor visibly clean? | C7: Yes
A8: 5 | B8: Is the flooring in a good state of repair? | C8: Yes | D8: The floors throughout the setting is generally good, however, There is damage to floor/skirt in reception area as it is coming away from wall. This needs repairing
A9: 6 | B9: Is the environment tidy and uncluttered? | C9: Yes
A10: 7 | B10: Are other items e.g., TV screens, computer screens, telephones clean/cleanable and in good condition? | C10: Yes
A11: 8 | B11: Is there a chilled water machine, and has this been connected from a mains supply? | C11: Yes | D11: This is located in the separate waiting area
A12: 9 | B12: Is the chilled water machine clean, cleaned in line with manufacturer’s instructions and subject to planned maintenance? | C12: Yes
B14: Yes | C14: =COUNTIF(C4:C12,"Yes") -> 9
B15: No | C15: =COUNTIF(C4:C12,"No") -> 0
B16: N/A | C16: =COUNTIF(C4:C12,"N/A") -> 0
B18: Yes & No | C18: =C14+C15 -> 9
B21: % Audit Score General Environment | C21: =C14/C18*100 -> 100

Sheet General Toys Books
A1: 3. General Toys/Books
A3: Question Number | B3: Statement | C3: Yes/No/NA | D3: Comments | E3: Actions (To be completed by Practice Manager) | F3: Date of Completion (To be completed by Practice Manager)
A4: 1 | B4: Is the play area visibly clean? Cleanable and in good state of repair? | C4: Yes
A5: 2 | B5: Are all toys/books included on cleaning schedules? | C5: Yes | D5: Discussed at time of visit , the cleaning frequency needed for the toys on display and responsible person for cleaning
A6: 3 | B6: Are all toys/books visibly clean, cleanable and in good condition? | C6: Yes
A7: 4 | B7: Are toys/books when not in use stored in a designated storage area? | C7: Yes
A8: 5
A9: 6
A10: 7
A11: 8
A12: 9
A13: 10
A14: 11
A15: 12
A16: 13
A17: 14
A18: 15
A19: 16
B23: Yes | C23: =COUNTIF(C4:C19,"Yes") -> 4
B24: No | C24: =COUNTIF(C4:C19,"No") -> 0
B25: N/A | C25: =COUNTIF(C4:C19,"N/A") -> 0
B27: Yes & No | C27: =C23+C24 -> 4
B32: % Audit Score General Toys/Books | C32: =C23/C27*100 -> 100

Sheet General Domestic Room
A1: 4. General Domestic Room
A3: Question Number | B3: Statement | C3: Yes/No/NA | D3: Comments | E3: Actions (To be completed by Practice Manager) | F3: Date of Completion (To be completed by Practice Manager)
A4: 1 | B4: Is the domestic room suitable given the items requiring storage and the procedures performed in there? | C4: Yes
A5: 2 | B5: Is the domestic room including floors, furnishings and fittings and its contents, clean, in good condition, tidy and free from clutter? | C5: Yes
A6: 3 | B6: Is there a disposal unit for the disposal of contaminated wastewater in the domestic room? | C6: Yes
A7: 4 | B7: Is the unit for the disposal of contaminated wastewater visibly clean? | C7: Yes
A8: 5 | B8: Is all cleaning equipment (to include mops and buckets/mop bucket ringers) stored clean and dry with mops stored inverted? | C8: No | D8: Mop buckets are visibly dirty at time of visit. mop heads are stored dirty on the wall mounted storage rack attached to the mop handle. | E8: ACTION- Ensure all cleaning equipment is stored correctly
A9: 6 | B9: Are mop heads laundered after use or disposable? | C9: No | D9: Disposable mop heads are used in the setting but dirty mop heads are attcahed to the mops on the wall racks leading me to think they are not disposed of after use.
A10: 7 | B10: Is there a colour coding system in place for cleaning equipment/environment, and a colour coding poster displayed? | C10: Yes
A11: 8 | B11: Are any unused/cleaned items stored such that they are free from any likely splash contamination? | C11: No | D11: Mop bucket at time of visit being stored on top of the waste water disposal unit. Other items are stored next to the waste water disposal unit, posing risk of contamination.
A12: 9 | B12: Are cleaning cloths laundered after use or disposable or microfibre used in line with manufacturers instructions? | C12: Yes
A13: 10 | B13: Are waste bags filled up to ¾ full and capable of being tied/secured? | C13: Yes
A14: 11 | B14: Are waste bags labelled before storage? | C14: Yes
A15: 12 | B15: Are full waste bags stored in a designated safe, lockable area? | C15: Yes
A16: 13 | B16: Are cleaning schedules completed, signed and up to date with frequencies and responsibilities identified? | C16: No | D16: No Domestic cleaning checklists visible at time of visit. Was able to view the cleaning schedules on the wall in domestic room but no assurance provided at time of visit that the schedule is upto date.
A17: 14 | B17: Do the domestic staff have access to appropriate PPE? | C17: Yes
A18: 15 | B18: Is there easy access to handwash facilities either within the room or close by? | C18: Yes
A19: 16 | B19: Are cleaning and disinfectant products available? | C19: Yes
B21: Yes | C21: =COUNTIF(C4:C19,"Yes") -> 12
B22: No | C22: =COUNTIF(C4:C19,"No") -> 4
B23: N/A | C23: =COUNTIF(C4:C19,"N/A") -> 0
B25: Yes & No | C25: =C21+C22 -> 16
B27: % Audit Score General Domestic Room | C27: =C21/C25*100 -> 75

Sheet Treatment Room Clinical Room
A1: 5. Treatment Room Clinical
A3: Question Number | B3: Statement | C3: Yes/No/NA | D3: Comments | E3: Actions (To be completed by Practice Manager) | F3: Date of Completion (To be completed by Practice Manager)
A4: 1 | B4: Are all furnishings and fittings visibly clean, in a good state of repair? | C4: No | D4: High dust to curtain rails in clinic rooms at time of visit.
A5: 2 | B5: Is the floor visibly clean? | C5: Yes
A6: 3 | B6: Is the flooring in a good state of repair minimising infection risk ? | C6: Yes
A7: 4 | B7: Is the environment tidy and uncluttered? | C7: Yes
A8: 5 | B8: Is there a designated hand wash basin used for handwashing only? Is the hand wash basin clean, in good condition and devoid of extraneous items? NB: All rooms used as clinical to have hand wash basin present. | C8: Yes
A9: 6 | B9: Is the handwash basin easily accessible to users? | C9: Yes
A10: 7 | B10: Is the basin of a safe design i.e plug free, overflow free, waste offset from tap flow, providing water at a comfortable temperature (ie mixer taps or thermostatically controlled), elbow operated or paper towels used to turn off taps? | C10: Yes
A11: 8 | B11: Is the soap dispensed from a single use cartridge? | C11: Yes
A12: 9 | B12: Is the liquid soap dispenser wall mounted and containing soap? | C12: Yes
A13: 10 | B13: Is the soap dispenser visibly clean? | C13: Yes
A14: 11 | B14: Are paper towels available from an enclosed dispenser and is it visibly clean? | C14: Yes
A15: 12 | B15: Is there a laminated hand hygiene poster displayed? | C15: Yes
A16: 13 | B16: Are all posters laminated and wipeable? | C16: No | D16: Not all psoters on pin boards in clinic rooms are laminated.
A17: 14 | B17: Is alcohol-based hand rub available at the point of care? | C17: Yes
A18: 15 | B18: Are alcohol-based hand rub containers visibly clean? | C18: Yes
A19: 16 | B19: Are the bins clean, in good condition, not overfilled and operated by a hands free system? | C19: Yes
A20: 17 | B20: Is waste segregated correctly ie domestic/offensive/infectious waste? | C20: Yes
A21: 18 | B21: Are dressing trolleys/trays clean, structurally sound and in a good state of repair? | C21: No | D21: Trolleys checked at time of visit and inside the trolley draws are dusty/ unclean.
A22: 19 | B22: Are all products stored above floor level? | C22: Yes
A23: 20 | B23: Are all work surfaces free from clutter/ inappropriate items? | C23: Yes
A24: 21 | B24: Are sterile products stored correctly and storage area visibly clean? | C24: Yes
A25: 22 | B25: Is the examination couch/chair visibly clean and in good condition? | C25: No | D25: Examination couches at time of visit are visibly dusty to underneath.
A26: 23 | B26: Is couch roll available if required? | C26: Yes
A27: 24 | B27: Are any pillows visibly clean and in good condition? | C27: Yes
A28: 25 | B28: Are all curtains visibly clean and on a cleaning/replacement schedule? | C28: Yes | E28: Action- ensure curtain change schedule is adhering to the cleanliness standards framework.
A29: 26 | B29: Any instruments requiring decontamination using an autoclave are they stored in a rigid, lidded container and labelled correctly? | C29: N/A
A30: 27 | B30: Is all equipment i.e. stethoscopes, Blood pressure monitoring, doppler machines clean/cleanable and in good state of repair? | C30: Yes
A31: 28 | B31: Is all this equipment cleaned in between patient use? | C31: Yes
A32: 29 | B32: Are spillage kits available and stored correctly? | C32: Yes
A33: 30 | B33: Are tourniquets single use? | C33: Yes
A34: 31 | B34: Is there an equipment cleaning checklist that is completed and up to date? | C34: Yes
A35: 32 | B35: Are staff aware of their cleaning responsibilities within the clinical treatment room? | C35: Yes
A36: 32 | B36: Are detergent /disinfection wipes available? | C36: Yes
A37: 33 | B37: Are chlorine based disinfection wipes available following high risk contamination e.g after a suspected infectious patient? | C37: No | D37: Did not see any at time of visit.
B39: Yes | C39: =COUNTIF(C4:C37,"Yes") -> 28
B40: No | C40: =COUNTIF(C4:C37,"No") -> 5
B41: N/A | C41: =COUNTIF(C4:C37,"N/A") -> 1
B43: Yes & No | C43: =C39+C40 -> 33
B46: % Audit Score Treatment Room - Clinical Room | C46: =C39/C43*100 -> 84.848485

Sheet PPE
A1: 6. Personal Protective Equipment
A3: Question Number | B3: Statement | C3: Yes/No/NA | D3: Comments | E3: Actions (To be completed by Practice Manager) | F3: Date of Completion (To be completed by Practice Manager)
A4: 1 | B4: Are single use gloves (in a range of sizes) available? | C4: Yes
A5: 2 | B5: Are single use plastic aprons (or gowns if required) available? | C5: Yes
A6: 3 | B6: Are all PPE stored appropriately away from the risk of contamination? | C6: Yes
A7: 4 | B7: Is eye protection available if required? | C7: No | D7: Eye protection to be sourced and appropriate for use.
A8: 5 | B8: Are fluid resistant facemasks available? | C8: Yes
A9: 6 | B9: Are FFP3 masks available if required? | C9: No
A10: 7 | B10: Does the GP practice comply with the National Infection Prevention and Control Manual for PPE? | C10: No
A11: 8 | B11: Are PPE competency checklists completed for staff? | C11: No
A12: 9
A13: 13
A14: 14
A15: 15
A16: 16
A17: 17
A18: 18
A19: 19
A20: 20
A21: 21
A22: 22
A23: 23
... A29: 29
B31: Yes | C31: =COUNTIF(C4:C29,"Yes") -> 4
B32: No | C32: =COUNTIF(C4:C29,"No") -> 4
B33: N/A | C33: =COUNTIF(C4:C29,"N/A") -> 0
B35: Yes & No | C35: =C31+C32 -> 8
B37: % Audit Score PPE | C37: =C31/C35*100 -> 50

Sheet Transportation of Specimens
A1: 7. Transportation of Specimens
A3: Question Number | B3: Statement | C3: Yes/No/NA | D3: Comments | E3: Actions (To be completed by Practice Manager) | F3: Date of Completion (To be completed by Practice Manager)
A4: 1 | B4: Is there a procedure for the safe handling of clinical specimens which includes: the collection, labelling, storage pre-collection and transportation of clinical specimens? | C4: Yes
A5: 2 | B5: Have staff who secure and send laboratory specimens received training on the safe handling? | C5: Yes
A6: 3 | B6: Are specimens in appropriate containers and packaging? | C6: Yes
A7: 4 | B7: Are specimens awaiting collection stored appropriate, away from public and staff rest rooms/areas? | C7: Yes
A8: 5 | B8: Is there a designated specimen fridge used only for specimens? | C8: Yes
A9: 6 | B9: Are specimen collection envelopes /transport boxes visibly clean? | C9: Yes
B11: Yes | C11: =COUNTIF(C4:C9,"Yes") -> 6
B12: No | C12: =COUNTIF(C4:C9,"No") -> 0
B13: N/A | C13: =COUNTIF(C4:C9,"N/A") -> 0
B15: Yes & No | C15: =C11+C12 -> 6
B17: % Audit Score Transportation of Specimens | C17: =C11/C15*100 -> 100

Sheet Sharps Handling & Disposal
A1: 8. Sharps Handling & Disposal
A3: Question Number | B3: Statement | C3: Yes/No/NA | D3: Comments | E3: Actions (To be completed by Practice Manager) | F3: Date of Completion (To be completed by Practice Manager)
A4: 1 | B4: Are sharps containers assembled correctly? | C4: Yes
A5: 2 | B5: Are sharps bins only used for the disposal of sharps i.e no other waste? | C5: Yes
A6: 3 | B6: Are sharps bins stored appropriately, and safety cover/temporary closure in place following use? | C6: Yes
A7: 4 | B7: Are sharps disposed correctly via the correct colour coded stream? | C7: Yes
A8: 5 | B8: Are used needles and syringes discarded as a complete single unit? | C8: Yes
A9: 6 | B9: Are locked sharps containers stored in a secure facility away from public access until collected for disposal? | C9: Yes | E9: ACTION- unused sharps containers to be removed from waste store room and stored appropriately.
A10: 7 | B10: Is there a laminated poster available for the management of an inoculation contamination injury? | C10: Yes
A11: 18
A12: 19
A13: 14
B14: Yes | C14: =COUNTIF(C4:C12,"Yes") -> 7
B15: No | C15: =COUNTIF(C4:C12,"No") -> 0
B16: N/A | C16: =COUNTIF(C4:C12,"N/A") -> 0
B18: Yes & No | C18: =C14+C15 -> 7
B20: % Audit Score Sharps Handling & Disposal | C20: =C14/C18*100 -> 100

Sheet Vaccine Transportation Storage
A1: 9. Vaccine Transportation & Storage
A3: Question Number | B3: Statement | C3: Yes/No/NA | D3: Comments | E3: Actions (To be completed by Practice Manager) | F3: Date of Completion (To be completed by Practice Manager)
A4: 1 | B4: Is there a policy/procedure for the safe receipt, storage and transportation of vaccines? | C4: Yes
A5: 2 | B5: Is there a policy for remedial action if vaccines are stored outside of the manufacturers recommended temperature ranges? i.e., 2- 8 degrees | C5: Yes
A6: 3 | B6: Is an audit undertaken annually of the entire vaccine process (receipt, storage, transportation, and usage)? | C6: Yes
A7: 4 | B7: Is there a named individual who is responsible for receiving & storing vaccines? | C7: Yes
A8: 5 | B8: Is there a named individual / deputy who is responsible for receiving & storing vaccines? | C8: Yes
A9: 6 | B9: Are all vaccines when delivered checked against the delivery note? | C9: Yes
A10: 7 | B10: Are vaccines placed immediately in a designated vaccine refrigerator on delivery? | C10: Yes
A11: 8 | B11: Are vaccine types, quantities, batch numbers, expiry dates and date and time received recorded? | C11: Yes
A12: 9 | B12: Are vaccines stored in a designated fridge, which is fit for purpose i.e. not domestic model? | C12: Yes | D12: There are 4 vaccine fridges available in the setting.
A13: 10 | B13: Does the refrigerator have an uninterrupted electrical supply or where not practical to do so is the plug identified as being for a drug fridge and therefore not to be switched off? | C13: Yes
A14: 11 | B14: Is the refrigerator situated away from a heat source and is air able to freely circulate around it? | C14: Yes
A15: 12 | B15: Are the contents evenly distributed within the refrigerator to allow air to circulate? | C15: Yes
A16: 13 | B16: Is the refrigerator locked? | C16: Yes
A17: 14 | B17: Is the refrigerator located in an area with restricted public access? | C17: Yes
A18: 15 | B18: Is the fridge checked, defrosted, and cleaned monthly, whilst vaccines are kept in an approved cool box with a minimum and maximum temperature range or 2nd fridge? | C18: Yes
A19: 16 | B19: Are there records of servicing, defrosting and cleaning, calibration and electrical testing recorded in with manufacturer’s instructions? | C19: Yes
A20: 17 | B20: Is there a back up plan in the event of a refrigerator failure? | C20: Yes
A21: 18 | B21: Are vaccines stored in their original packaging? | C21: Yes
A22: 19 | B22: Are vaccines in date with no more than 4 weeks of stock? | C22: Yes
A23: 20 | B23: Are vaccine stocks rotated and used according to date? | C23: Yes
A24: 21 | B24: Is the fridge fitted with a minimum maximum thermometer? | C24: Yes
... A30: 27 | B30: Is there a system in place for safe disposal of expired/surplus/damaged vaccines? | C30: Yes
A31: 28 | B31: Are vaccines only removed from the base refrigerator immediately before leaving for an external session? | C31: Yes | D31: PCN nurses now administer all the vaccines for the surgery.
A32: 29 | B32: Are vaccines returned immediately to the base refrigerator after an external session? | C32: Yes
A33: 30 | B33: During transport, are vaccines wrapped in bubble wrap (or similar insulation material) stored in a suitable approved cool box with a maximum and minimum thermometer with cool packs? | C33: Yes
A34: 31 | B34: Have all staff who receive and store vaccines received training (including maintenance of the cold chain)? | C34: Yes
A35: 32
A36: 33
A37: 34
B39: Yes | C39: =COUNTIF(C4:C37,"Yes") -> 31
B40: No | C40: =COUNTIF(C4:C37,"No") -> 0
B41: N/A | C41: =COUNTIF(C4:C37,"N/A") -> 0
B43: Yes & No | C43: =C39+C40 -> 31
B45: % Audit Score Vaccine Transportation/Storage | C45: =C39/C43*100 -> 100

Sheet Dirty Utility Sluice
A1: 10. Dirty Utility & Sluice
A3: Question Number | B3: Statement | C3: Yes/No/NA | D3: Comments | E3: Actions (To be completed by Practice Manager) | F3: Date of Completion (To be completed by Practice Manager)
A4: 1 | B4: Is a sluice room available? | C4: Yes
A5: 2 | B5: Is the floor, walls and all surfaces, clean, cleanable and in good condition? | C5: Yes
A6: 3 | B6: Is the environment free from clutter? | C6: No | D6: Some items stored in sluice at time of visit that are not appropriate to have in this area. Sharps boxes being stored in this room above the sluice disposal unit. There is a wash bowel in the deep sink ? Unknown use of this. Store gloves away from risk of contamination | E6: ACTION- Sluice room to be kept free from items that are not appropriate to be stored in this area. Any items being stored in this room are to be stored away from risk of contamination.
A7: 4 | B7: Are appropriate cleaning material and disinfectants available? | C7: No
A8: 5 | B8: Is there an equipment cleaning sink (not used for hand hygiene)? | C8: Yes
A9: 6 | B9: Is there a dedicated hand wash basin? | C9: Yes
A10: 7 | B10: Is the handwash basin easily accessible to users? | C10: Yes
A11: 8 | B11: Is the basin of a safe design i.e plug free, overflow free, waste offset from tap flow, providing water at a comfortable temperature (ie mixer taps or thermostatically controlled), elbow operated or paper towels used to turn off taps? | C11: Yes
A12: 9 | B12: Is the hand wash basin clean, in good condition and devoid of extraneous items? | C12: Yes
A13: 10 | B13: Is the liquid soap dispenser wall mounted and containing soap, and is it visibly clean? | C13: Yes
A14: 11 | B14: Are paper towels available from an enclosed dispenser, and is it visibly clean? | C14: Yes
A15: 12 | B15: Is there a laminated hand hygiene poster displayed? | C15: Yes
A16: 13 | B16: Is there a safe system for discarding all bodily fluids? | C16: Yes
A17: 14 | B17: Is a poster available for the management of blood and bodily fluid spillages? | C17: Yes
A18: 15 | B18: Is PPE available either within or very close to the sluice? | C18: Yes
... A22: 19 | B22: Is the waste segregated correctly? | C22: Yes
A23: 20
A24: 21
A25: 22
A26: 23
B28: Yes | C28: =COUNTIF(C4:C26,"Yes") -> 16
B29: No | C29: =COUNTIF(C4:C26,"No") -> 3
B30: N/A | C30: =COUNTIF(C4:C26,"N/A") -> 0
B32: Yes & No | C32: =C28+C29 -> 19
B34: % Audit Score Dirty Utility/Sluice | C34: =C28/C32*100 -> 84.210526

Sheet Storeroom & Equipment Storage
A1: 11. Storeroom & Equipment Storage
A3: Question Number | B3: Statement | C3: Yes/No/NA | D3: Comments | E3: Actions (To be completed by Practice Manager) | F3: Date of Completion (To be completed by Practice Manager)
A4: 1 | B4: Is the environment including floor visibly clean, cleanable and in good condition? | C4: Yes
A5: 2 | B5: Is the storeroom/equipment storage free from clutter? | C5: Yes
A6: 3 | B6: Are all items in the storeroom/equipment stored away from any possible splash contamination and protected from dust? | C6: Yes
A7: 4 | B7: Are all items stored above floor level apart from items designed to be placed on the floor? | C7: Yes
A8: 5 | B8: Are all items of equipment clean and in good condition? | C8: Yes
A9: 6
A10: 7
A11: 8
A12: 9
A13: 10
A14: 12
A15: 13
A16: 14
A17: 15
A18: 16
A19: 17
A20: 18
... A37: 35
B39: Yes | C39: =COUNTIF(C4:C37,"Yes") -> 5
B40: No | C40: =COUNTIF(C4:C37,"No") -> 0
B41: N/A | C41: =COUNTIF(C4:C37,"N/A") -> 0
B43: Yes & No | C43: =C39+C40 -> 5
B45: % Audit Score Storeroom & Storage of Equipment | C45: =C39/C43*100 -> 100

Sheet Baby Changing Facilities
A1: 12. Baby Changing Facilities
A3: Question Number | B3: Statement | C3: Yes/No/NA | D3: Comments | E3: Actions (To be completed by Practice Manager) | F3: Date of Completion (To be completed by Practice Manager)
A4: 1 | B4: Is baby changing equipment in good condition and clean? | C4: Yes
A5: 2 | B5: Is there information displayed for parents on how to clean the baby changing area afterwards? | C5: Yes
A6: 3 | B6: Are cleaning materials for parents available? | C6: Yes
A7: 4 | B7: Is there a dedicated hand washing sink? | C7: Yes
A8: 5 | B8: Are hand hygiene products readily available including liquid soap and paper towels | C8: Yes
A9: 6 | B9: Is a laminated hand hygiene poster available? | C9: Yes
A10: 7 | B10: Are there facilities available for correct disposal of domestic and offensive (if applicable) waste? | C10: No | D10: No clinical waste bin currently | E10: ACTION- Ensure appropriate waste facilities are avilable in the baby change room. ACTION- chair to be replaced as it is very worn.
A11: 8 | B11: Is the waste bin, clean, in good condition and hands free operated? | C11: Yes
A12: 9
A13: 10
A14: 11
A15: 12
A16: 13
A17: 14
A18: 15
A19: 16
A20: 17
A21: 18
B23: Yes | C23: =COUNTIF(C4:C21,"Yes") -> 7
B24: No | C24: =COUNTIF(C4:C21,"No") -> 1
B25: N/A | C25: =COUNTIF(C4:C21,"N/A") -> 0
B27: Yes & No | C27: =C23+C24 -> 8
B30: % Audit Score Baby Changing Facilities | C30: =C23/C27*100 -> 87.5

Sheet Patient Toilets
A1: 13. Patient Toilets
A3: Question Number | B3: Statement | C3: Yes/No/NA | D3: Comments | E3: Actions (To be completed by Practice Manager) | F3: Date of Completion (To be completed by Practice Manager)
A4: 1 | B4: Are all toilet areas, including the floor, visibly clean, clutter free and in good condition? | C4: Yes | D4: Generally in good condition. There is some damage to wall in patient toilet in waiting room.
A5: 2 | B5: Are toilet brushes and their holders visibly clean? | C5: N/A
A6: 3 | B6: Is there a hand hygiene poster available? | C6: Yes
A7: 4 | B7: Is there a dedicated hand washing sink? | C7: Yes
A8: 5 | B8: Are hand hygiene products readily available including liquid soap and paper towels? | C8: Yes
A9: 6 | B9: Are there facilities available for correct disposal of domestic and offensive waste? | C9: Yes
A10: 8 | B10: Is the waste bin, clean, in good condition and hands free operated? | C10: Yes
A11: 9 | B11: Is the allocated toilet cleaning regime sufficient to maintain toilet cleanliness? | C11: Yes
A12: 10
A13: 11
A14: 12
A15: 13
A16: 14
A17: 15
A18: 16
B20: Yes | C20: =COUNTIF(C4:C18,"Yes") -> 7
B21: No | C21: =COUNTIF(C4:C18,"No") -> 0
B22: N/A | C22: =COUNTIF(C4:C18,"N/A") -> 1
B24: Yes & No | C24: =C20+C21 -> 7
B26: % Audit Score Patient Toilets | C26: =C20/C24*100 -> 100

Sheet Validations
A2: Nursing Home
A3: Nursing & Residential Home
A4: Residential Home
A6: Yes
A7: No
A8: N/A
A10: Claire Sherratt
A11: Helen Healey
A12: Helen Wilcox
A13: Laura Peers
A14: Ciara Ramsden
A15: Sarah Deveney
... A19: Karen Clearkin
